BEGIN:VCALENDAR
VERSION:2.0
PRODID:-//ECKANKAR in New Jersey - ECPv6.15.20//NONSGML v1.0//EN
CALSCALE:GREGORIAN
METHOD:PUBLISH
X-WR-CALNAME:ECKANKAR in New Jersey
X-ORIGINAL-URL:https://eckankar-nj.org
X-WR-CALDESC:Events for ECKANKAR in New Jersey
REFRESH-INTERVAL;VALUE=DURATION:PT1H
X-Robots-Tag:noindex
X-PUBLISHED-TTL:PT1H
BEGIN:VTIMEZONE
TZID:America/New_York
BEGIN:DAYLIGHT
TZOFFSETFROM:-0500
TZOFFSETTO:-0400
TZNAME:EDT
DTSTART:20240310T070000
END:DAYLIGHT
BEGIN:STANDARD
TZOFFSETFROM:-0400
TZOFFSETTO:-0500
TZNAME:EST
DTSTART:20241103T060000
END:STANDARD
BEGIN:DAYLIGHT
TZOFFSETFROM:-0500
TZOFFSETTO:-0400
TZNAME:EDT
DTSTART:20250309T070000
END:DAYLIGHT
BEGIN:STANDARD
TZOFFSETFROM:-0400
TZOFFSETTO:-0500
TZNAME:EST
DTSTART:20251102T060000
END:STANDARD
BEGIN:DAYLIGHT
TZOFFSETFROM:-0500
TZOFFSETTO:-0400
TZNAME:EDT
DTSTART:20260308T070000
END:DAYLIGHT
BEGIN:STANDARD
TZOFFSETFROM:-0400
TZOFFSETTO:-0500
TZNAME:EST
DTSTART:20261101T060000
END:STANDARD
END:VTIMEZONE
BEGIN:VEVENT
DTSTART;TZID=America/New_York:20250925T190000
DTEND;TZID=America/New_York:20250925T200000
DTSTAMP:20260422T130123
CREATED:20250721T144537Z
LAST-MODIFIED:20250904T093505Z
UID:10002194-1758826800-1758830400@eckankar-nj.org
SUMMARY:Reincarnation – Moving Past the Past
DESCRIPTION:How do our past lives shape who we are today?\nHow can knowing about them help us in our present life? Can knowing about them help us in our present life? Reincarnation is an important key to spiritual unfoldment\, one that is\nuniquely individual. \nReincarnation – an important key to moving past the past.\nLearning about our past lives can help us with healing\, overcoming fears\, understanding difficult situations as well as gaining insights that help us in relationships\, and much more. \nThis event will give you the opportunity to see the meaning of these experiences and discover what is happening behind the scenes. \nWhat this event offers: \n\nHow to recognize clues that reincarnation is real\nWhat the purpose of reincarnation is and how can we benefit from discovering our past lives.\nA simple spiritual exercise\, singing HU\, that can help you open your heart to new possibilities.\nWays to build confidence and trust in your Divine connection as you take your next spiritual step.\n\nNew ways to experience the Divine \nWhether you’re just beginning your spiritual journey or seeking deeper understanding\, this discussion invites you to experience the Divine more directly—through love\, guidance\, and personal growth. \nCome with your questions\, stories\, or simply listen. \nAll are welcome in this heart-centered space for reflection and discovery – learn how Reincarnation helps us move past the past. \n \n\nPart of the “Raise Your Spiritual IQ!” Series\n\nHosted by Eckankar in New Jersey\, this series offers uplifting monthly conversations on various spiritual topics: \n\nLearn contemplative techniques to tap into knowledge already within you.\nGo beyond traditional practices  to experience a higher state of spiritual awareness—one of Seeing\, Knowing\, and Being.\nShare insights\, ask questions\, or simply listen to the experiences of like-hearted individuals.\n\nEach event is informal\, relaxed\, and free\, welcoming anyone seeking self-discovery and divine love. Whether you seek clarity about a profound experience or wish to dive into a new spiritual journey\, this is the perfect event for self-discovery and divine love. \n\nHow to Join\n\n Register Here: Use the “Event Form” link in the event details panel on this page to sign up for the first time\nZoom Link: Once registered\, you’ll receive the connection details for this ongoing event.\n\nDon’t miss out – Embrace this opportunity to raise your spiritual awareness by understanding of how reincarnation helps you move past the past. This journey starts with you. \nFor more resources\, visit: Eckankar.org.
URL:https://eckankar-nj.org/event/reincarnation-moving-past-the-past/
LOCATION:Online
CATEGORIES:Series,Virtual Event
ATTACH;FMTTYPE=image/jpeg:https://eckankar-nj.org/wp-content/uploads/2025/07/Past-Lives-PresentLessonswithbrdr_360x360.jpg
ORGANIZER;CN="Eckankar NJ Events - Online":MAILTO:spirituality@eckankar-nj.org
END:VEVENT
END:VCALENDAR