BEGIN:VCALENDAR
VERSION:2.0
PRODID:-//ECKANKAR in New Jersey - ECPv6.15.20//NONSGML v1.0//EN
CALSCALE:GREGORIAN
METHOD:PUBLISH
X-ORIGINAL-URL:https://eckankar-nj.org
X-WR-CALDESC:Events for ECKANKAR in New Jersey
REFRESH-INTERVAL;VALUE=DURATION:PT1H
X-Robots-Tag:noindex
X-PUBLISHED-TTL:PT1H
BEGIN:VTIMEZONE
TZID:America/New_York
BEGIN:DAYLIGHT
TZOFFSETFROM:-0500
TZOFFSETTO:-0400
TZNAME:EDT
DTSTART:20240310T070000
END:DAYLIGHT
BEGIN:STANDARD
TZOFFSETFROM:-0400
TZOFFSETTO:-0500
TZNAME:EST
DTSTART:20241103T060000
END:STANDARD
BEGIN:DAYLIGHT
TZOFFSETFROM:-0500
TZOFFSETTO:-0400
TZNAME:EDT
DTSTART:20250309T070000
END:DAYLIGHT
BEGIN:STANDARD
TZOFFSETFROM:-0400
TZOFFSETTO:-0500
TZNAME:EST
DTSTART:20251102T060000
END:STANDARD
BEGIN:DAYLIGHT
TZOFFSETFROM:-0500
TZOFFSETTO:-0400
TZNAME:EDT
DTSTART:20260308T070000
END:DAYLIGHT
BEGIN:STANDARD
TZOFFSETFROM:-0400
TZOFFSETTO:-0500
TZNAME:EST
DTSTART:20261101T060000
END:STANDARD
END:VTIMEZONE
BEGIN:VEVENT
DTSTART;TZID=America/New_York:20251214T110000
DTEND;TZID=America/New_York:20251214T120000
DTSTAMP:20260422T080239
CREATED:20250602T154546Z
LAST-MODIFIED:20260315T165110Z
UID:10000096-1765710000-1765713600@eckankar-nj.org
SUMMARY:Develop a Powerful Spiritual Practice
DESCRIPTION:Discover HU—An Ancient Spiritual Chant to Transform Your Life.\nDevelop a powerful spiritual practice! You’re warmly invited to a unique experience of chanting HU\, an ancient and sacred name for God that has uplifted spiritual seekers for thousands of years. Known as the Sound of Soul\, chanting HU can bring clarity\, inner peace\, and divine love to people of any background\, religion\, or culture. \nWhat to Expect:\n\nFirst\, there will be a brief introduction of the Sound of Soul.\nNext\, you’ll hear a beautiful contemplation seed to inspire your journey.\nThen\, participants will Chant HU (pronounced “hue”) for 15–20 minutes in a supportive environment.\nWhen the singing concludes\, enjoy a few moments of quiet contemplation.\nAfterward\, we will hold a meaningful spiritual conversation with others of like heart.\n\nBenefits of Singing HU:\n\nInner peace and calm\nExpanded spiritual awareness\nSelf-discovery and growth\nHealing of the heart\nDeeper Connection with divine love\n\nListen to HU at hearhu.org\, where you can explore how this love song to God has touched the lives of thousands. \nHow to Join This Free Event\n\nRegister Here – Click the “Event Form” link in the event details to sign up for your first session.\nZoom Details – After registering\, you’ll receive an email with the connection information for this ongoing event.\n\nGive yourself this spiritual gift to Accelerate your Spiritual Growth. Join us to explore the transformative power of HU. We look forward to seeing you at the next session! \n\nEnjoy this inspiring example of using the HU Song in a contemplative exercise:
URL:https://eckankar-nj.org/event/develop-a-powerful-spiritual-practice/
LOCATION:Online
CATEGORIES:Series,Virtual Event
ATTACH;FMTTYPE=image/jpeg:https://eckankar-nj.org/wp-content/uploads/2024/10/soul_travel_11_color_HI360x360.jpg
ORGANIZER;CN="Eckankar NJ Events - Online":MAILTO:spirituality@eckankar-nj.org
END:VEVENT
BEGIN:VEVENT
DTSTART;TZID=America/New_York:20251218T190000
DTEND;TZID=America/New_York:20251218T200000
DTSTAMP:20260422T080239
CREATED:20250722T212137Z
LAST-MODIFIED:20251128T105639Z
UID:10002197-1766084400-1766088000@eckankar-nj.org
SUMMARY:Open the Doorway to Your Dreams
DESCRIPTION:Are the places we visit in our dreams real? The Language of Dreams raises questions about why we dream and how our dreams connect with our lives. It’s often said that dreams can be the doorway to your dreams and aspirations. \nLearn why we dream and how our dreams connect with our daily lives. Understanding is key to finding the doorway to your dreams through subconscious pathways. \nJoin us for an inspiring spiritual discussion where we’ll explore the language of dreams and how they can guide us in daily life. Discover practical tools to help you remember and interpret your dreams\, and learn a simple contemplative technique that can open your heart to Divine guidance. This is truly the doorway to your dreams. \n✨ What you’ll experience:\n\nTips for remembering dreams and keeping a dream journal\nHow to use dreams for insights and problem-solving\nA spiritual exercise\, singing HU\, to connect dreams with waking life\nNew ways to experience the Divine through love\, guidance\, and personal growth\n\n  \nNew ways to experience the Divine\nThis discussion offers a sacred space to deepen your relationship with Spirit. No matter where you are on your spiritual journey\, you’ll discover new ways to experience the Divine more directly—through love\, guidance\, and personal spiritual growth. \nBring your questions\, stories\, or simply come to listen. This gathering offers a sacred space to deepen your relationship with Spirit and discover new possibilities. Dream adventures await as you step through the doorway to your dreams! \n \n\nPart of the “Raise Your Spiritual IQ!” Series\n\nHosted by Eckankar in New Jersey\, this series offers uplifting monthly conversations on various spiritual topics: \n\nLearn contemplative techniques to tap into knowledge already within you.\nGo beyond traditional practices  to experience a higher state of spiritual awareness—one of Seeing\, Knowing\, and Being.\nShare insights\, ask questions\, or simply listen to the experiences of like-hearted individuals.\n\nEach event is informal\, relaxed\, and free\, welcoming anyone seeking self-discovery and divine love. Whether you seek clarity about a profound experience or wish to dive into a new spiritual journey\, this is the perfect event for self-discovery and divine love\, guiding you toward the doorway to your dreams. \n\nHow to Join\n\n Register Here: Use the “Event Form” link in the event details panel on this page to sign up for the first time\nZoom Link: Once registered\, you’ll receive the connection details for this ongoing event.\n\nDon’t miss out – Embrace this opportunity to raise your spiritual awareness and learn techniques for remembering and interpreting your dreams. This journey starts with you. \nFor more resources\, visit: Eckankar.org.
URL:https://eckankar-nj.org/event/open-the-doorway-to-your-dreams/
LOCATION:Online
CATEGORIES:Series,Virtual Event
ATTACH;FMTTYPE=image/jpeg:https://eckankar-nj.org/wp-content/uploads/2025/02/JournalDoorwayBRDR-150at360x360.jpg
ORGANIZER;CN="Eckankar NJ Events - Online":MAILTO:spirituality@eckankar-nj.org
END:VEVENT
END:VCALENDAR