BEGIN:VCALENDAR
VERSION:2.0
PRODID:-//ECKANKAR in New Jersey - ECPv6.15.20//NONSGML v1.0//EN
CALSCALE:GREGORIAN
METHOD:PUBLISH
X-WR-CALNAME:ECKANKAR in New Jersey
X-ORIGINAL-URL:https://eckankar-nj.org
X-WR-CALDESC:Events for ECKANKAR in New Jersey
REFRESH-INTERVAL;VALUE=DURATION:PT1H
X-Robots-Tag:noindex
X-PUBLISHED-TTL:PT1H
BEGIN:VTIMEZONE
TZID:America/New_York
BEGIN:DAYLIGHT
TZOFFSETFROM:-0500
TZOFFSETTO:-0400
TZNAME:EDT
DTSTART:20260308T070000
END:DAYLIGHT
BEGIN:STANDARD
TZOFFSETFROM:-0400
TZOFFSETTO:-0500
TZNAME:EST
DTSTART:20261101T060000
END:STANDARD
BEGIN:DAYLIGHT
TZOFFSETFROM:-0500
TZOFFSETTO:-0400
TZNAME:EDT
DTSTART:20270314T070000
END:DAYLIGHT
BEGIN:STANDARD
TZOFFSETFROM:-0400
TZOFFSETTO:-0500
TZNAME:EST
DTSTART:20271107T060000
END:STANDARD
BEGIN:DAYLIGHT
TZOFFSETFROM:-0500
TZOFFSETTO:-0400
TZNAME:EDT
DTSTART:20280312T070000
END:DAYLIGHT
BEGIN:STANDARD
TZOFFSETFROM:-0400
TZOFFSETTO:-0500
TZNAME:EST
DTSTART:20281105T060000
END:STANDARD
END:VTIMEZONE
BEGIN:VEVENT
DTSTART;TZID=America/New_York:20270101T190000
DTEND;TZID=America/New_York:20270101T193000
DTSTAMP:20260421T040558
CREATED:20250203T220911Z
LAST-MODIFIED:20250513T135952Z
UID:10001962-1798830000-1798831800@eckankar-nj.org
SUMMARY:Chela HU Chant North/Central
DESCRIPTION:The chela HU Song (also called a HU Chant) is for chelas to sing their love for SUGMAD and contemplate with others who share a spiritual commitment to the Mahanta\, It’s simply for the spiritual upliftment of those who come and is not directed to any other purpose. \nVideo/Phone Conference: The Chela HU Chant will take place as a Zoom meeting on the first Friday of every month. If you plan to attend for the first time\, please call or text Eileen Murphy (908-930-6949)\, or email (emurphy1012@comcast.net) for this event. You will be emailed the Zoom connection information before the event.
URL:https://eckankar-nj.org/event/chela-hu-chant-north-central-2/2027-01-01/
CATEGORIES:Initiate Virtual Event
ATTACH;FMTTYPE=image/jpeg:https://eckankar-nj.org/wp-content/uploads/2023/09/Chela_HU_Song.jpg
LOCATION:https://eckankar-nj.org/event/chela-hu-chant-north-central-2/2027-01-01/
END:VEVENT
BEGIN:VEVENT
DTSTART;TZID=America/New_York:20270103T100000
DTEND;TZID=America/New_York:20270103T113000
DTSTAMP:20260421T040558
CREATED:20260414T145546Z
LAST-MODIFIED:20260414T145546Z
UID:10003551-1798970400-1798975800@eckankar-nj.org
SUMMARY:The Secret Way Satsang
DESCRIPTION:An ECK Satsang class to discuss the Secret Way discourse series begins on Sunday\, June 7th\, 2026. The class will meet on the 1st Sunday from 10 am to 11:30 am each month for 12 months. The class will remain open for new students to join for only the first three months of the Satsang. \nThe class is open to current members of Eckankar who are now receiving or have previously received and studied the Secret Way Discourses. Please contact the Arahata\, Paula Anderson at paulajanderson1@gmail.com for information. \nVideo Conference—This event will take place as a Zoom meeting at its regularly scheduled date and time. If you plan to attend for the first time\, please email the Arahata for the Zoom connection information.
URL:https://eckankar-nj.org/event/the-secret-way-satsang-4/2027-01-03/
CATEGORIES:Initiate Virtual Event
ATTACH;FMTTYPE=image/jpeg:https://eckankar-nj.org/wp-content/uploads/2023/09/Satsang-Classes.jpg
END:VEVENT
BEGIN:VEVENT
DTSTART;TZID=America/New_York:20270104T190000
DTEND;TZID=America/New_York:20270104T203000
DTSTAMP:20260421T040558
CREATED:20250315T170333Z
LAST-MODIFIED:20250502T220707Z
UID:10002836-1799089200-1799094600@eckankar-nj.org
SUMMARY:Spiritual Services Coordinators Meeting
DESCRIPTION:The purpose of these monthly calls is to share information on current classes and suggestions for future classes. \nTeleconference: This event will take place as an audio conference phone call at its regularly scheduled date and time. You will be emailed the call-in number and access code about a week before the event. Please arrive a few minutes early in case there are any connection issues that might arise.
URL:https://eckankar-nj.org/event/spiritual-services-coordinators-meeting/2027-01-04/
CATEGORIES:Initiate Virtual Event
ATTACH;FMTTYPE=image/jpeg:https://eckankar-nj.org/wp-content/uploads/2023/09/Chela-Meeting-Discussion.jpg
LOCATION:
END:VEVENT
BEGIN:VEVENT
DTSTART;TZID=America/New_York:20270110T110000
DTEND;TZID=America/New_York:20270110T120000
DTSTAMP:20260421T040558
CREATED:20231130T231627Z
LAST-MODIFIED:20260315T163939Z
UID:10000109-1799578800-1799582400@eckankar-nj.org
SUMMARY:Sound of Soul Event
DESCRIPTION:Discover HU—An Ancient Spiritual Chant to Transform Your Life.\nYou’re warmly invited to a unique experience of chanting HU\, an ancient and sacred name for God that has uplifted spiritual seekers for thousands of years. Known as the Sound of Soul\, chanting HU can bring clarity\, inner peace\, and divine love to people of any background\, religion\, or culture. \nWhat to Expect:\n\nFirst\, there will be a brief introduction of the Sound of Soul.\nNext\, you’ll hear a beautiful contemplation seed to inspire your journey.\nThen\, participants will Chant HU (pronounced “hue”) for 15–20 minutes in a supportive environment.\nWhen the singing concludes\, enjoy a few moments of quiet contemplation.\nAfterward\, we will hold a meaningful spiritual conversation with others of like heart.\n\nBenefits of Singing HU:\n\nInner peace and calm\nExpanded spiritual awareness\nSelf-discovery and growth\nHealing of the heart\nDeeper Connection with divine love\n\nListen to HU at hearhu.org\, where you can explore how this love song to God has touched the lives of thousands. \nHow to Join This Free Event\n\nRegister Here – Click the “Event Form” link in the event details to sign up for your first session.\nZoom Details – After registering\, you’ll receive an email with the connection information for this ongoing event.\n\nGive yourself this spiritual gift to Accelerate your Spiritual Growth. Join us to explore the transformative power of HU. We look forward to seeing you at the next session! \n\nEnjoy this inspiring example of using the HU Song in a contemplative exercise:
URL:https://eckankar-nj.org/event/sound-of-soul-event-19/2027-01-10/
LOCATION:Online
CATEGORIES:Series,Virtual Event
ATTACH;FMTTYPE=image/jpeg:https://eckankar-nj.org/wp-content/uploads/2023/08/SS_SOS.jpg
ORGANIZER;CN="Eckankar NJ Events - Online":MAILTO:spirituality@eckankar-nj.org
END:VEVENT
BEGIN:VEVENT
DTSTART;TZID=America/New_York:20270111T183000
DTEND;TZID=America/New_York:20270111T200000
DTSTAMP:20260421T040558
CREATED:20251124T214313Z
LAST-MODIFIED:20251124T214315Z
UID:10003426-1799692200-1799697600@eckankar-nj.org
SUMMARY:The Mystic World Chela Discussion
DESCRIPTION:Eckankar publishes The Mystic World quarterly\, in March\, June\, September\, and December. You are warmly invited to attend a state-wide\, chela-only discussion of the current Mystic World.  Come and join your spiritual community in this interactive discussion. We look forward to seeing you! \nThe Mystic World includes feature articles and Wisdom Notes from the Living ECK Master. Each issue has inspiring stories from ECKists about their experiences on the way home to God. \nVideo Conference: This event will take place as a Zoom meeting at its regularly scheduled date and time. If you plan to attend for the first time\, please call or email the above contact. The Arahata will email you the Zoom connection information shortly. For more information please email Vera4strings@gmail.com or call 609-602-0330.
URL:https://eckankar-nj.org/event/the-mystic-world-chela-discussion-2/2027-01-11/
LOCATION:Online
CATEGORIES:Initiate Virtual Event
ATTACH;FMTTYPE=image/jpeg:https://eckankar-nj.org/wp-content/uploads/2023/09/MysticWorld-Discussion.jpg
END:VEVENT
BEGIN:VEVENT
DTSTART;TZID=America/New_York:20270114T183000
DTEND;TZID=America/New_York:20270114T200000
DTSTAMP:20260421T040558
CREATED:20240218T201607Z
LAST-MODIFIED:20250502T220927Z
UID:10001899-1799951400-1799956800@eckankar-nj.org
SUMMARY:State Vahana Team Meeting
DESCRIPTION:New Jersey’s Regional Vahana Team Leader Paula Anderson invites local Vahana team coordinators and reps from each area to share experiences and ideas for how we can best serve the Mahanta. These sessions will be opportunities for us to learn what each other is doing and how to support our goals. \nVideo Conference: This event will take place as a Zoom meeting at its regularly scheduled date and time. If you plan to attend\, please call Paula at 609-261-0019 or email paulajanderson1@gmail.com. You will be emailed the Zoom connection information about a week before the event. Please arrive a few minutes early in case there are any connection issues that might arise.
URL:https://eckankar-nj.org/event/state-vahana-team-meeting/2027-01-14/
CATEGORIES:Initiate Virtual Event
ATTACH;FMTTYPE=image/jpeg:https://eckankar-nj.org/wp-content/uploads/2023/09/Chela-Meeting-Discussion.jpg
LOCATION:
END:VEVENT
BEGIN:VEVENT
DTSTART;TZID=America/New_York:20270117T110000
DTEND;TZID=America/New_York:20270117T123000
DTSTAMP:20260421T040558
CREATED:20251113T215040Z
LAST-MODIFIED:20251113T215042Z
UID:10003377-1800183600-1800189000@eckankar-nj.org
SUMMARY:H.I. Book Discussion
DESCRIPTION:The assigned chapter of the current book\, or a date of a specific H.I. Letter to be discussed will be announced by email. For more information\, contact Harold Huggins at 908-561-7297. \nVideo Conference: This event will take place as a Zoom meeting at its regularly scheduled date and time. If you plan to attend for the first time\, please call or email the above contact. The Arahata will email you the Zoom connection information shortly.
URL:https://eckankar-nj.org/event/h-i-book-discussion-2-3/2027-01-17/
CATEGORIES:Initiate Virtual Event
ATTACH;FMTTYPE=image/jpeg:https://eckankar-nj.org/wp-content/uploads/2024/02/Golden_leaf_color_HI_360x360.jpg
END:VEVENT
BEGIN:VEVENT
DTSTART;TZID=America/New_York:20270124T110000
DTEND;TZID=America/New_York:20270124T123000
DTSTAMP:20260421T040558
CREATED:20240218T231203Z
LAST-MODIFIED:20250513T140249Z
UID:10002043-1800788400-1800793800@eckankar-nj.org
SUMMARY:Satsang Intensive
DESCRIPTION:It includes reading\, reflection\, sharing and discussion\, and is intended to provide a spiritual setting for a connection to be made between the chela and the Inner Master. We will be scheduling monthly state-wide\, chela-only Satsang Intensives on the 4th Sunday of the month going forward. RSVP to Bill Sinnett by email or call 908-304-0373\, and you will receive an email confirmation with the passage we will be discussing in this Satsang Intensive. You can find additional information about the Satsang Intensive in the Initiate Area of the ECKANKAR website. \nVideo Conference: This event will take place as a Zoom meeting. The class is open to current students of Eckankar. If you plan to attend for the first time\, please call or email the above contact. The Arahata will email you the Zoom connection information shortly.
URL:https://eckankar-nj.org/event/satsang-intensive/2027-01-24/
CATEGORIES:Initiate Virtual Event
ATTACH;FMTTYPE=image/jpeg:https://eckankar-nj.org/wp-content/uploads/2023/09/Satsang-Classes.jpg
LOCATION:https://eckankar-nj.org/event/satsang-intensive/2027-01-24/
END:VEVENT
BEGIN:VEVENT
DTSTART;TZID=America/New_York:20270128T190000
DTEND;TZID=America/New_York:20270128T200000
DTSTAMP:20260421T040558
CREATED:20250107T174328Z
LAST-MODIFIED:20250724T234258Z
UID:10002210-1801162800-1801166400@eckankar-nj.org
SUMMARY:Spiritual Conversations
DESCRIPTION:Held on the 4th Thursday of each month at 7 pm\, our Spiritual Conversations are informal\, relaxed\, and free. Anyone may attend. A different aspect of spirituality is featured each month. Join us and other like-hearted people to share insights\, ask questions\, or just listen\, whether you’re puzzled about a life experience or curious about any spiritual topic. Give yourself the gift of a new experience of divine love and self-discovery. \n\nPart of the “Raise Your Spiritual IQ!” Series\n\nHosted by Eckankar in New Jersey\, this series offers uplifting monthly conversations on various spiritual topics: \n\nLearn contemplative techniques to tap into knowledge already within you.\nGo beyond traditional practices  to experience a higher state of spiritual awareness—one of Seeing\, Knowing\, and Being.\nShare insights\, ask questions\, or simply listen to the experiences of like-hearted individuals.\n\nEach event is informal\, relaxed\, and free\, welcoming anyone seeking self-discovery and divine love. Whether you seek clarity about a profound experience or wish to dive into a new spiritual journey\, this is the perfect event for self-discovery and divine love. \n\nHow to Join\n\n Register Here: Use the “Event Form” link in the event details panel on this page to sign up for the first time\nZoom Link: Once registered\, you’ll receive the connection details for this ongoing event.\n\nDon’t miss out – Embrace this opportunity to raise your spiritual awareness and learn techniques for remembering and interpreting your dreams. This journey starts with you. \nFor more resources\, visit: Eckankar.org.
URL:https://eckankar-nj.org/event/spiritual-conversations/2027-01-28/
LOCATION:Online
CATEGORIES:Series,Virtual Event
ATTACH;FMTTYPE=image/jpeg:https://eckankar-nj.org/wp-content/uploads/2023/08/SD_NewECKStar.jpg
ORGANIZER;CN="Eckankar NJ Events - Online":MAILTO:spirituality@eckankar-nj.org
END:VEVENT
BEGIN:VEVENT
DTSTART;TZID=America/New_York:20270129T063000
DTEND;TZID=America/New_York:20270129T070000
DTSTAMP:20260421T040558
CREATED:20250217T191036Z
LAST-MODIFIED:20250502T221853Z
UID:10002712-1801204200-1801206000@eckankar-nj.org
SUMMARY:Chela HU Chant South
DESCRIPTION:The chela HU Song (also called a HU Chant) is for chelas to sing their love for SUGMAD and contemplate with others who share a spiritual commitment to the Mahanta\, It’s simply for the spiritual upliftment of those who come and is not directed to any other purpose. \nVideo/Phone Conference: The Chela HU Chant will take place as a Zoom meeting on the last Friday of every month at 6:30 am. If you plan to attend for the first time\, please call or text Vera Bojko (609-602-0330)\, or email (vera4strings@gmail.com) for this event. You will be emailed the Zoom connection information before the event.
URL:https://eckankar-nj.org/event/chela-hu-chant-south/2027-01-29/
CATEGORIES:Initiate Virtual Event
ATTACH;FMTTYPE=image/jpeg:https://eckankar-nj.org/wp-content/uploads/2023/09/Chela_HU_Song.jpg
LOCATION:https://eckankar-nj.org/event/chela-hu-chant-south/2027-01-29/
END:VEVENT
END:VCALENDAR